BEGIN:VCALENDAR
VERSION:2.0
PRODID:-//Nepean Clay Target Club - ECPv6.10.1.1//NONSGML v1.0//EN
CALSCALE:GREGORIAN
METHOD:PUBLISH
X-WR-CALNAME:Nepean Clay Target Club
X-ORIGINAL-URL:https://www.nepeanclaytargetclub.com.au
X-WR-CALDESC:Events for Nepean Clay Target Club
REFRESH-INTERVAL;VALUE=DURATION:PT1H
X-Robots-Tag:noindex
X-PUBLISHED-TTL:PT1H
BEGIN:VTIMEZONE
TZID:UTC
BEGIN:STANDARD
TZOFFSETFROM:+0000
TZOFFSETTO:+0000
TZNAME:UTC
DTSTART:20260101T000000
END:STANDARD
END:VTIMEZONE
BEGIN:VEVENT
DTSTART;TZID=UTC:20260815T090000
DTEND;TZID=UTC:20260815T090000
DTSTAMP:20260425T125319
CREATED:20260105T043902Z
LAST-MODIFIED:20260105T050448Z
UID:1095-1786784400-1786784400@www.nepeanclaytargetclub.com.au
SUMMARY:AUGUST 15
DESCRIPTION:Saturday 15th\, 9.00 am\nRound 4 SEZ\n25 tgt H/cap\n25 tgt D/B\n25 tgt P/S
URL:https://www.nepeanclaytargetclub.com.au/event/august/
CATEGORIES:2026 Calendar
END:VEVENT
BEGIN:VEVENT
DTSTART;TZID=UTC:20260828T180000
DTEND;TZID=UTC:20260828T180000
DTSTAMP:20260425T125319
CREATED:20260105T051359Z
LAST-MODIFIED:20260105T051408Z
UID:1126-1787940000-1787940000@www.nepeanclaytargetclub.com.au
SUMMARY:AUGUST 28
DESCRIPTION:Friday 28th\, 6pm\n50 Target Sporting Night Shoot
URL:https://www.nepeanclaytargetclub.com.au/event/august-28/
CATEGORIES:2026 Calendar
END:VEVENT
END:VCALENDAR