BEGIN:VCALENDAR
VERSION:2.0
PRODID:-//Nepean Clay Target Club - ECPv6.10.1.1//NONSGML v1.0//EN
CALSCALE:GREGORIAN
METHOD:PUBLISH
X-WR-CALNAME:Nepean Clay Target Club
X-ORIGINAL-URL:https://www.nepeanclaytargetclub.com.au
X-WR-CALDESC:Events for Nepean Clay Target Club
REFRESH-INTERVAL;VALUE=DURATION:PT1H
X-Robots-Tag:noindex
X-PUBLISHED-TTL:PT1H
BEGIN:VTIMEZONE
TZID:UTC
BEGIN:STANDARD
TZOFFSETFROM:+0000
TZOFFSETTO:+0000
TZNAME:UTC
DTSTART:20250101T000000
END:STANDARD
END:VTIMEZONE
BEGIN:VEVENT
DTSTART;TZID=UTC:20251220T103000
DTEND;TZID=UTC:20251220T103000
DTSTAMP:20260425T125727
CREATED:20241211T055836Z
LAST-MODIFIED:20241211T121008Z
UID:990-1766226600-1766226600@www.nepeanclaytargetclub.com.au
SUMMARY:December 20
DESCRIPTION:Saturday December 20th \n10:30AM Start \nChristmas Shoot \n30 tgt D/B \n30 tgt P/S \n14 Tgt Skeet \n1-3 each event
URL:https://www.nepeanclaytargetclub.com.au/event/december-20/
CATEGORIES:2025 Calendar
END:VEVENT
END:VCALENDAR