BEGIN:VCALENDAR
VERSION:2.0
PRODID:-//Nepean Clay Target Club - ECPv6.10.1.1//NONSGML v1.0//EN
CALSCALE:GREGORIAN
METHOD:PUBLISH
X-ORIGINAL-URL:https://www.nepeanclaytargetclub.com.au
X-WR-CALDESC:Events for Nepean Clay Target Club
REFRESH-INTERVAL;VALUE=DURATION:PT1H
X-Robots-Tag:noindex
X-PUBLISHED-TTL:PT1H
BEGIN:VTIMEZONE
TZID:UTC
BEGIN:STANDARD
TZOFFSETFROM:+0000
TZOFFSETTO:+0000
TZNAME:UTC
DTSTART:20250101T000000
END:STANDARD
END:VTIMEZONE
BEGIN:VEVENT
DTSTART;TZID=UTC:20251115T103000
DTEND;TZID=UTC:20251115T103000
DTSTAMP:20260425T143023
CREATED:20241211T055635Z
LAST-MODIFIED:20241211T121004Z
UID:986-1763202600-1763202600@www.nepeanclaytargetclub.com.au
SUMMARY:November 15
DESCRIPTION:Saturday November 15th \n10:30AM Start \nClub Championship \n20D/B\, 20 S/B\, 20 PS\, 20 Cont\, 20 BT\, 10 pr DR
URL:https://www.nepeanclaytargetclub.com.au/event/november-15/
CATEGORIES:2025 Calendar
END:VEVENT
END:VCALENDAR