BEGIN:VCALENDAR
VERSION:2.0
PRODID:-//Nepean Clay Target Club - ECPv6.10.1.1//NONSGML v1.0//EN
CALSCALE:GREGORIAN
METHOD:PUBLISH
X-WR-CALNAME:Nepean Clay Target Club
X-ORIGINAL-URL:https://www.nepeanclaytargetclub.com.au
X-WR-CALDESC:Events for Nepean Clay Target Club
REFRESH-INTERVAL;VALUE=DURATION:PT1H
X-Robots-Tag:noindex
X-PUBLISHED-TTL:PT1H
BEGIN:VTIMEZONE
TZID:UTC
BEGIN:STANDARD
TZOFFSETFROM:+0000
TZOFFSETTO:+0000
TZNAME:UTC
DTSTART:20250101T000000
END:STANDARD
END:VTIMEZONE
BEGIN:VEVENT
DTSTART;TZID=UTC:20250920T110000
DTEND;TZID=UTC:20250920T110000
DTSTAMP:20260425T173840
CREATED:20241211T055349Z
LAST-MODIFIED:20241211T120948Z
UID:982-1758366000-1758366000@www.nepeanclaytargetclub.com.au
SUMMARY:September 20
DESCRIPTION:Saturday September 20th \n11:00AM Start \nPast Members Memorial Shoot \n50tgt D/B\, 50 Tgt P/S
URL:https://www.nepeanclaytargetclub.com.au/event/september-20/
CATEGORIES:2025 Calendar
END:VEVENT
BEGIN:VEVENT
DTSTART;TZID=UTC:20250926T180000
DTEND;TZID=UTC:20250926T180000
DTSTAMP:20260425T173840
CREATED:20241211T055537Z
LAST-MODIFIED:20241211T120952Z
UID:984-1758909600-1758909600@www.nepeanclaytargetclub.com.au
SUMMARY:September 26
DESCRIPTION:Friday September 26th \n6:00PM Start \nFinal 50 Tgt Sporting Night Shoot
URL:https://www.nepeanclaytargetclub.com.au/event/september-26/
CATEGORIES:2025 Calendar
END:VEVENT
END:VCALENDAR