BEGIN:VCALENDAR
VERSION:2.0
PRODID:-//Nepean Clay Target Club - ECPv6.10.1.1//NONSGML v1.0//EN
CALSCALE:GREGORIAN
METHOD:PUBLISH
X-WR-CALNAME:Nepean Clay Target Club
X-ORIGINAL-URL:https://www.nepeanclaytargetclub.com.au
X-WR-CALDESC:Events for Nepean Clay Target Club
REFRESH-INTERVAL;VALUE=DURATION:PT1H
X-Robots-Tag:noindex
X-PUBLISHED-TTL:PT1H
BEGIN:VTIMEZONE
TZID:UTC
BEGIN:STANDARD
TZOFFSETFROM:+0000
TZOFFSETTO:+0000
TZNAME:UTC
DTSTART:20250101T000000
END:STANDARD
END:VTIMEZONE
BEGIN:VEVENT
DTSTART;TZID=UTC:20250816T110000
DTEND;TZID=UTC:20250816T110000
DTSTAMP:20260425T190522
CREATED:20241211T063544Z
LAST-MODIFIED:20241211T120937Z
UID:1002-1755342000-1755342000@www.nepeanclaytargetclub.com.au
SUMMARY:August 16
DESCRIPTION:Saturday August 16th \n11:00 Start \nSEZ Ball Trap Final \n25tgt B/T \n75 tgt SEZ B/T
URL:https://www.nepeanclaytargetclub.com.au/event/august-16/
CATEGORIES:2025 Calendar
END:VEVENT
BEGIN:VEVENT
DTSTART;TZID=UTC:20250822T180000
DTEND;TZID=UTC:20250822T180000
DTSTAMP:20260425T190522
CREATED:20241211T055138Z
LAST-MODIFIED:20241211T120943Z
UID:978-1755885600-1755885600@www.nepeanclaytargetclub.com.au
SUMMARY:August 22
DESCRIPTION:Friday August 22nd \n6:00PM Start \n50 Tgt Sporting Night Shoot
URL:https://www.nepeanclaytargetclub.com.au/event/august-22/
CATEGORIES:2025 Calendar
END:VEVENT
END:VCALENDAR