BEGIN:VCALENDAR
VERSION:2.0
PRODID:-//Nepean Clay Target Club - ECPv6.10.1.1//NONSGML v1.0//EN
CALSCALE:GREGORIAN
METHOD:PUBLISH
X-ORIGINAL-URL:https://www.nepeanclaytargetclub.com.au
X-WR-CALDESC:Events for Nepean Clay Target Club
REFRESH-INTERVAL;VALUE=DURATION:PT1H
X-Robots-Tag:noindex
X-PUBLISHED-TTL:PT1H
BEGIN:VTIMEZONE
TZID:UTC
BEGIN:STANDARD
TZOFFSETFROM:+0000
TZOFFSETTO:+0000
TZNAME:UTC
DTSTART:20250101T000000
END:STANDARD
END:VTIMEZONE
BEGIN:VEVENT
DTSTART;TZID=UTC:20250621T103000
DTEND;TZID=UTC:20250621T103000
DTSTAMP:20260425T155722
CREATED:20241211T063217Z
LAST-MODIFIED:20241211T120847Z
UID:999-1750501800-1750501800@www.nepeanclaytargetclub.com.au
SUMMARY:June 21
DESCRIPTION:Saturday June 21st \n10:30AM Start \n100tgt D/B Peter Noy Memorial shoot
URL:https://www.nepeanclaytargetclub.com.au/event/june-21/
CATEGORIES:2025 Calendar
END:VEVENT
BEGIN:VEVENT
DTSTART;TZID=UTC:20250627T180000
DTEND;TZID=UTC:20250627T180000
DTSTAMP:20260425T155722
CREATED:20241211T054653Z
LAST-MODIFIED:20241211T120856Z
UID:971-1751047200-1751047200@www.nepeanclaytargetclub.com.au
SUMMARY:June 27
DESCRIPTION:Friday June 27th \n6:00PM Start \n50 Tgt Sporting Night Shoot
URL:https://www.nepeanclaytargetclub.com.au/event/june-27/
CATEGORIES:2025 Calendar
END:VEVENT
END:VCALENDAR