BEGIN:VCALENDAR
VERSION:2.0
PRODID:-//Nepean Clay Target Club - ECPv6.10.1.1//NONSGML v1.0//EN
CALSCALE:GREGORIAN
METHOD:PUBLISH
X-ORIGINAL-URL:https://www.nepeanclaytargetclub.com.au
X-WR-CALDESC:Events for Nepean Clay Target Club
REFRESH-INTERVAL;VALUE=DURATION:PT1H
X-Robots-Tag:noindex
X-PUBLISHED-TTL:PT1H
BEGIN:VTIMEZONE
TZID:UTC
BEGIN:STANDARD
TZOFFSETFROM:+0000
TZOFFSETTO:+0000
TZNAME:UTC
DTSTART:20260101T000000
END:STANDARD
END:VTIMEZONE
BEGIN:VEVENT
DTSTART;TZID=UTC:20260424T180000
DTEND;TZID=UTC:20260424T180000
DTSTAMP:20260425T142709
CREATED:20260105T043032Z
LAST-MODIFIED:20260105T044137Z
UID:1084-1777053600-1777053600@www.nepeanclaytargetclub.com.au
SUMMARY:APRIL 24
DESCRIPTION:Friday 24th\, 6pm\n50 Target Sporting Night Shoot
URL:https://www.nepeanclaytargetclub.com.au/event/april-24/
CATEGORIES:2026 Calendar
END:VEVENT
BEGIN:VEVENT
DTSTART;TZID=UTC:20260516T103000
DTEND;TZID=UTC:20260516T103000
DTSTAMP:20260425T142709
CREATED:20260105T032757Z
LAST-MODIFIED:20260105T050252Z
UID:1065-1778927400-1778927400@www.nepeanclaytargetclub.com.au
SUMMARY:MAY 16
DESCRIPTION:Saturday 16th\, 10.30 am\n40 tgt H/cap\, Norm Quick Mem.\n50 D/B
URL:https://www.nepeanclaytargetclub.com.au/event/may/
CATEGORIES:2026 Calendar
END:VEVENT
BEGIN:VEVENT
DTSTART;TZID=UTC:20260522T180000
DTEND;TZID=UTC:20260522T180000
DTSTAMP:20260425T142709
CREATED:20260105T043347Z
LAST-MODIFIED:20260105T044156Z
UID:1086-1779472800-1779472800@www.nepeanclaytargetclub.com.au
SUMMARY:MAY 22
DESCRIPTION:Friday 22nd\, 6pm\n50 Target Sporting Night Shoot
URL:https://www.nepeanclaytargetclub.com.au/event/may-22/
CATEGORIES:2026 Calendar
END:VEVENT
BEGIN:VEVENT
DTSTART;TZID=UTC:20260620T103000
DTEND;TZID=UTC:20260620T103000
DTSTAMP:20260425T142709
CREATED:20260105T032935Z
LAST-MODIFIED:20260105T044520Z
UID:1067-1781951400-1781951400@www.nepeanclaytargetclub.com.au
SUMMARY:JUNE 20
DESCRIPTION:Saturday 20th\, 10.30 am\n100 tgt D/B\, Peter Noy Mem.
URL:https://www.nepeanclaytargetclub.com.au/event/june-20/
CATEGORIES:2026 Calendar
END:VEVENT
BEGIN:VEVENT
DTSTART;TZID=UTC:20260626T180000
DTEND;TZID=UTC:20260626T180000
DTSTAMP:20260425T142709
CREATED:20260105T043542Z
LAST-MODIFIED:20260105T044049Z
UID:1089-1782496800-1782496800@www.nepeanclaytargetclub.com.au
SUMMARY:JUNE 26th
DESCRIPTION:Friday 26th\, 6pm\n50 Target Sporting Night Shoot
URL:https://www.nepeanclaytargetclub.com.au/event/june-26/
CATEGORIES:2026 Calendar
END:VEVENT
BEGIN:VEVENT
DTSTART;TZID=UTC:20260718T103000
DTEND;TZID=UTC:20260718T103000
DTSTAMP:20260425T142709
CREATED:20260105T033054Z
LAST-MODIFIED:20260105T050128Z
UID:1069-1784370600-1784370600@www.nepeanclaytargetclub.com.au
SUMMARY:JULY 18
DESCRIPTION:Saturday 18th\, 10.30 am\nSouthern Triangle Round 3\n50 tgt H/cap\n50 tgt D/B
URL:https://www.nepeanclaytargetclub.com.au/event/july-18/
CATEGORIES:2026 Calendar
END:VEVENT
BEGIN:VEVENT
DTSTART;TZID=UTC:20260724T180000
DTEND;TZID=UTC:20260724T180000
DTSTAMP:20260425T142709
CREATED:20260105T043702Z
LAST-MODIFIED:20260105T050042Z
UID:1092-1784916000-1784916000@www.nepeanclaytargetclub.com.au
SUMMARY:JULY 24
DESCRIPTION:Friday 24th\, 6pm\n50 Target Sporting Night Shoot
URL:https://www.nepeanclaytargetclub.com.au/event/july-2026/
CATEGORIES:2026 Calendar
END:VEVENT
BEGIN:VEVENT
DTSTART;TZID=UTC:20260815T090000
DTEND;TZID=UTC:20260815T090000
DTSTAMP:20260425T142709
CREATED:20260105T043902Z
LAST-MODIFIED:20260105T050448Z
UID:1095-1786784400-1786784400@www.nepeanclaytargetclub.com.au
SUMMARY:AUGUST 15
DESCRIPTION:Saturday 15th\, 9.00 am\nRound 4 SEZ\n25 tgt H/cap\n25 tgt D/B\n25 tgt P/S
URL:https://www.nepeanclaytargetclub.com.au/event/august/
CATEGORIES:2026 Calendar
END:VEVENT
BEGIN:VEVENT
DTSTART;TZID=UTC:20260828T180000
DTEND;TZID=UTC:20260828T180000
DTSTAMP:20260425T142709
CREATED:20260105T051359Z
LAST-MODIFIED:20260105T051408Z
UID:1126-1787940000-1787940000@www.nepeanclaytargetclub.com.au
SUMMARY:AUGUST 28
DESCRIPTION:Friday 28th\, 6pm\n50 Target Sporting Night Shoot
URL:https://www.nepeanclaytargetclub.com.au/event/august-28/
CATEGORIES:2026 Calendar
END:VEVENT
BEGIN:VEVENT
DTSTART;TZID=UTC:20260919T103000
DTEND;TZID=UTC:20260919T103000
DTSTAMP:20260425T142709
CREATED:20260105T033145Z
LAST-MODIFIED:20260105T044642Z
UID:1071-1789813800-1789813800@www.nepeanclaytargetclub.com.au
SUMMARY:SEPTEMBER 19
DESCRIPTION:Saturday 19th\, 10.30 am\nPast Members Memorial\n50 tgt D/B\n50 tgt P/S
URL:https://www.nepeanclaytargetclub.com.au/event/september/
CATEGORIES:2026 Calendar
END:VEVENT
BEGIN:VEVENT
DTSTART;TZID=UTC:20260925T180000
DTEND;TZID=UTC:20260925T180000
DTSTAMP:20260425T142709
CREATED:20260105T044718Z
LAST-MODIFIED:20260105T050310Z
UID:1108-1790359200-1790359200@www.nepeanclaytargetclub.com.au
SUMMARY:SEPTEMBER 25
DESCRIPTION:Friday 25th\, 6pm\n50 Target Sporting Night Shoot
URL:https://www.nepeanclaytargetclub.com.au/event/september-25/
CATEGORIES:2026 Calendar
END:VEVENT
BEGIN:VEVENT
DTSTART;TZID=UTC:20261017T100000
DTEND;TZID=UTC:20261017T100000
DTSTAMP:20260425T142709
CREATED:20260105T051058Z
LAST-MODIFIED:20260105T051058Z
UID:1123-1792231200-1792231200@www.nepeanclaytargetclub.com.au
SUMMARY:OCTOBER 17
DESCRIPTION:Saturday 17th\, 10.00 am\nSEZ Double Rise\n30 pr D/R\n30 pr D/D\, DP
URL:https://www.nepeanclaytargetclub.com.au/event/october-17/
CATEGORIES:2026 Calendar
END:VEVENT
BEGIN:VEVENT
DTSTART;TZID=UTC:20261121T103000
DTEND;TZID=UTC:20261121T103000
DTSTAMP:20260425T142709
CREATED:20260105T033315Z
LAST-MODIFIED:20260105T044230Z
UID:1075-1795257000-1795257000@www.nepeanclaytargetclub.com.au
SUMMARY:NOVEMBER 21
DESCRIPTION:Saturday 21st\, 10.30am \nClub Championship\n20tgtD/B\, 20S/B\, 20P/S\,\n20 Cont\, 20 B/T\, 10 pr D/R
URL:https://www.nepeanclaytargetclub.com.au/event/november-21/
CATEGORIES:2026 Calendar
END:VEVENT
BEGIN:VEVENT
DTSTART;TZID=UTC:20261219T103000
DTEND;TZID=UTC:20261219T103000
DTSTAMP:20260425T142709
CREATED:20260105T034245Z
LAST-MODIFIED:20260105T044555Z
UID:1079-1797676200-1797676200@www.nepeanclaytargetclub.com.au
SUMMARY:DECEMBER 19
DESCRIPTION:Saturday 19th\,10.30am \nChristmas Shoot\n1–3eachevent\n30 tgt D/B\n30 tgt P/S\n14 tgt Skeet
URL:https://www.nepeanclaytargetclub.com.au/event/december/
CATEGORIES:2026 Calendar
END:VEVENT
END:VCALENDAR