BEGIN:VCALENDAR
VERSION:2.0
PRODID:-//Nepean Clay Target Club - ECPv6.10.1.1//NONSGML v1.0//EN
CALSCALE:GREGORIAN
METHOD:PUBLISH
X-WR-CALNAME:Nepean Clay Target Club
X-ORIGINAL-URL:https://www.nepeanclaytargetclub.com.au
X-WR-CALDESC:Events for Nepean Clay Target Club
REFRESH-INTERVAL;VALUE=DURATION:PT1H
X-Robots-Tag:noindex
X-PUBLISHED-TTL:PT1H
BEGIN:VTIMEZONE
TZID:UTC
BEGIN:STANDARD
TZOFFSETFROM:+0000
TZOFFSETTO:+0000
TZNAME:UTC
DTSTART:20240101T000000
END:STANDARD
END:VTIMEZONE
BEGIN:VEVENT
DTSTART;TZID=UTC:20250523T180000
DTEND;TZID=UTC:20250523T180000
DTSTAMP:20260425T191937
CREATED:20241211T054507Z
LAST-MODIFIED:20241211T120839Z
UID:968-1748023200-1748023200@www.nepeanclaytargetclub.com.au
SUMMARY:May 23
DESCRIPTION:Friday May 23rd \n6:00PM Start \n50 Tgt Sporting Night Shoot
URL:https://www.nepeanclaytargetclub.com.au/event/may-23/
CATEGORIES:2025 Calendar
END:VEVENT
BEGIN:VEVENT
DTSTART;TZID=UTC:20250517T103000
DTEND;TZID=UTC:20250517T103000
DTSTAMP:20260425T191937
CREATED:20241211T062645Z
LAST-MODIFIED:20241211T120830Z
UID:997-1747477800-1747477800@www.nepeanclaytargetclub.com.au
SUMMARY:May 17
DESCRIPTION:Saturday May 17th \n10:30AM Start \n40 Target Norm Quick Handicap \n50 Tgt D/B
URL:https://www.nepeanclaytargetclub.com.au/event/may-17/
CATEGORIES:2025 Calendar
END:VEVENT
BEGIN:VEVENT
DTSTART;TZID=UTC:20250425T180000
DTEND;TZID=UTC:20250425T180000
DTSTAMP:20260425T191937
CREATED:20241211T054411Z
LAST-MODIFIED:20241211T120758Z
UID:966-1745604000-1745604000@www.nepeanclaytargetclub.com.au
SUMMARY:April 25
DESCRIPTION:Friday April 25th \n6:00PM Start \n50 tgt Sporting Night Shoot
URL:https://www.nepeanclaytargetclub.com.au/event/april-25/
CATEGORIES:2025 Calendar
END:VEVENT
BEGIN:VEVENT
DTSTART;TZID=UTC:20250419T110000
DTEND;TZID=UTC:20250419T110000
DTSTAMP:20260425T191937
CREATED:20241211T054242Z
LAST-MODIFIED:20241211T120754Z
UID:964-1745060400-1745060400@www.nepeanclaytargetclub.com.au
SUMMARY:April 19
DESCRIPTION:Saturday April 19th \n11:00AM Start \n25 tgt S/B\, 25 Tgt P/S Medley \n25 tgt B/T\, 25 Tgt U/T Medley
URL:https://www.nepeanclaytargetclub.com.au/event/april-19/
CATEGORIES:2025 Calendar
END:VEVENT
BEGIN:VEVENT
DTSTART;TZID=UTC:20250315T110000
DTEND;TZID=UTC:20250315T110000
DTSTAMP:20260425T191937
CREATED:20241211T053903Z
LAST-MODIFIED:20241211T120724Z
UID:959-1742036400-1742036400@www.nepeanclaytargetclub.com.au
SUMMARY:March 15
DESCRIPTION:Saturday March 15th \n11:00AM Start \n50 tgt D/B \n50 tgt Points Score
URL:https://www.nepeanclaytargetclub.com.au/event/march-15/
CATEGORIES:2025 Calendar
END:VEVENT
BEGIN:VEVENT
DTSTART;TZID=UTC:20250215T110000
DTEND;TZID=UTC:20250215T110000
DTSTAMP:20260425T191937
CREATED:20241211T054148Z
LAST-MODIFIED:20241211T120717Z
UID:962-1739617200-1739617200@www.nepeanclaytargetclub.com.au
SUMMARY:February 15
DESCRIPTION:Saturday February 15th \n11:00AM Start \n25 D/B Cont\, \n25tgt SEZ D/B Cont \n25 tgt S/B Cont \n25 tgt Pnts Continental
URL:https://www.nepeanclaytargetclub.com.au/event/february-15/
CATEGORIES:2025 Calendar
END:VEVENT
BEGIN:VEVENT
DTSTART;TZID=UTC:20250118T110000
DTEND;TZID=UTC:20250118T110000
DTSTAMP:20260425T191937
CREATED:20241211T053731Z
LAST-MODIFIED:20241211T120558Z
UID:956-1737198000-1737198000@www.nepeanclaytargetclub.com.au
SUMMARY:January 18
DESCRIPTION:Saturday January 18th\, \n11:00AM Start \n100Target Medley\, 25 DB\, 25 SB\, 25 PS\, 25 Continental
URL:https://www.nepeanclaytargetclub.com.au/event/january-18/
CATEGORIES:2025 Calendar
END:VEVENT
BEGIN:VEVENT
DTSTART;TZID=UTC:20241221T100000
DTEND;TZID=UTC:20241221T100000
DTSTAMP:20260425T191937
CREATED:20231205T071454Z
LAST-MODIFIED:20241211T115505Z
UID:871-1734775200-1734775200@www.nepeanclaytargetclub.com.au
SUMMARY:December 21\, 2024
DESCRIPTION:December 21\,\nSaturday; 10am\,\nChristmas Shoot\,\n30 target DB\,\n30 target PS\,\n14 target skeet
URL:https://www.nepeanclaytargetclub.com.au/event/december-21-2024/
CATEGORIES:2024 Calendar
END:VEVENT
END:VCALENDAR